BEGIN:VCALENDAR
VERSION:2.0
PRODID:-//CSHA - ECPv6.15.20//NONSGML v1.0//EN
CALSCALE:GREGORIAN
METHOD:PUBLISH
X-WR-CALNAME:CSHA
X-ORIGINAL-URL:https://californiastatehorsemen.org
X-WR-CALDESC:Events for CSHA
REFRESH-INTERVAL;VALUE=DURATION:PT1H
X-Robots-Tag:noindex
X-PUBLISHED-TTL:PT1H
BEGIN:VTIMEZONE
TZID:America/Los_Angeles
BEGIN:DAYLIGHT
TZOFFSETFROM:-0800
TZOFFSETTO:-0700
TZNAME:PDT
DTSTART:20250309T100000
END:DAYLIGHT
BEGIN:STANDARD
TZOFFSETFROM:-0700
TZOFFSETTO:-0800
TZNAME:PST
DTSTART:20251102T090000
END:STANDARD
BEGIN:DAYLIGHT
TZOFFSETFROM:-0800
TZOFFSETTO:-0700
TZNAME:PDT
DTSTART:20260308T100000
END:DAYLIGHT
BEGIN:STANDARD
TZOFFSETFROM:-0700
TZOFFSETTO:-0800
TZNAME:PST
DTSTART:20261101T090000
END:STANDARD
BEGIN:DAYLIGHT
TZOFFSETFROM:-0800
TZOFFSETTO:-0700
TZNAME:PDT
DTSTART:20270314T100000
END:DAYLIGHT
BEGIN:STANDARD
TZOFFSETFROM:-0700
TZOFFSETTO:-0800
TZNAME:PST
DTSTART:20271107T090000
END:STANDARD
END:VTIMEZONE
BEGIN:VEVENT
DTSTART;VALUE=DATE:20260425
DTEND;VALUE=DATE:20260426
DTSTAMP:20260424T052429
CREATED:20260209T180258Z
LAST-MODIFIED:20260209T180315Z
UID:16357-1777075200-1777161599@californiastatehorsemen.org
SUMMARY:CSHA Quarterly Meeting
DESCRIPTION:
URL:https://californiastatehorsemen.org/event/csha-quarterly-meeting/
LOCATION:Hotel Mission D’Oro\, 13070 CA-33\, Santa Nella\, CA\, United States
END:VEVENT
BEGIN:VEVENT
DTSTART;VALUE=DATE:20260503
DTEND;VALUE=DATE:20260504
DTSTAMP:20260424T052429
CREATED:20260209T185534Z
LAST-MODIFIED:20260209T185534Z
UID:16419-1777766400-1777852799@californiastatehorsemen.org
SUMMARY:Trail Trials at Black Butte
DESCRIPTION:Save the Date More Info Soon! \nTrail Length:  3 hours\n# of Obstacles: 8\nSenior Judge: Cindi McElwain \nContact:\nChris Enos\n530 517-1481\nemail
URL:https://californiastatehorsemen.org/event/trail-trials-at-black-butte/
LOCATION:CA
CATEGORIES:Trail Trials
END:VEVENT
BEGIN:VEVENT
DTSTART;VALUE=DATE:20260509
DTEND;VALUE=DATE:20260510
DTSTAMP:20260424T052429
CREATED:20260209T185627Z
LAST-MODIFIED:20260209T185627Z
UID:16421-1778284800-1778371199@californiastatehorsemen.org
SUMMARY:Hidden Valley Trail Trial
DESCRIPTION:Save the Date More Info Soon!
URL:https://californiastatehorsemen.org/event/hidden-valley-trail-trial/
LOCATION:CA
CATEGORIES:Trail Trials
END:VEVENT
BEGIN:VEVENT
DTSTART;VALUE=DATE:20260516
DTEND;VALUE=DATE:20260518
DTSTAMP:20260424T052429
CREATED:20260209T185723Z
LAST-MODIFIED:20260209T185723Z
UID:16423-1778889600-1779062399@californiastatehorsemen.org
SUMMARY:Trail Trials at Twisted Pines
DESCRIPTION:Groveland\, CA\nSave the Date More Info Soon!
URL:https://californiastatehorsemen.org/event/trail-trials-at-twisted-pines/
LOCATION:CA
CATEGORIES:Trail Trials
END:VEVENT
BEGIN:VEVENT
DTSTART;VALUE=DATE:20260606
DTEND;VALUE=DATE:20260608
DTSTAMP:20260424T052429
CREATED:20260209T190042Z
LAST-MODIFIED:20260209T190042Z
UID:16425-1780704000-1780876799@californiastatehorsemen.org
SUMMARY:Trail Trials Clinic Saturday -  Trail Trials at Camelot Sunday
DESCRIPTION:Trail Length:  3-4 miles\n# of Obstacles: 9\nSenior Judge: Cindi McElwain \nContact:\nChristina Carlton\n916 798-9442 \nEntry and Info
URL:https://californiastatehorsemen.org/event/trail-trials-clinic-saturday-trail-trials-at-camelot-sunday/
LOCATION:Camelot Equestrian Park\, 1985 Clark Road\, Oroville\, CA\, United States
CATEGORIES:Trail Trials
END:VEVENT
BEGIN:VEVENT
DTSTART;VALUE=DATE:20260606
DTEND;VALUE=DATE:20260608
DTSTAMP:20260424T052429
CREATED:20260209T190147Z
LAST-MODIFIED:20260209T190147Z
UID:16428-1780704000-1780876799@californiastatehorsemen.org
SUMMARY:Chihuahua Valley Trail Trial
DESCRIPTION:Warner Springs\, CA\nSave the Date More Info Soon!
URL:https://californiastatehorsemen.org/event/chihuahua-valley-trail-trial/
LOCATION:CA
CATEGORIES:Trail Trials
END:VEVENT
BEGIN:VEVENT
DTSTART;VALUE=DATE:20260620
DTEND;VALUE=DATE:20260622
DTSTAMP:20260424T052429
CREATED:20260209T190313Z
LAST-MODIFIED:20260209T190313Z
UID:16430-1781913600-1782086399@californiastatehorsemen.org
SUMMARY:Tumbleweed Trail Trials
DESCRIPTION:Groveland\, CA\nSave the Date More Info Soon!
URL:https://californiastatehorsemen.org/event/tumbleweed-trail-trials/
LOCATION:CA
CATEGORIES:Trail Trials
END:VEVENT
BEGIN:VEVENT
DTSTART;VALUE=DATE:20260711
DTEND;VALUE=DATE:20260713
DTSTAMP:20260424T052429
CREATED:20260211T001101Z
LAST-MODIFIED:20260212T224744Z
UID:16453-1783728000-1783900799@californiastatehorsemen.org
SUMMARY:Wild West Obstacle Challenge - SANCTIONED
DESCRIPTION:Contact: Lauren West 707-803-9317 sixhorsewest@aol.com Entry Form
URL:https://californiastatehorsemen.org/event/wild-west-obstacle-challenge-sanctioned-2/
LOCATION:Six Horse West Ranch\, 3724 Old Railroad Grade Rd\, Fieldbrook\, CA\, United States
CATEGORIES:Obstacle Challenge,Region 13
END:VEVENT
BEGIN:VEVENT
DTSTART;VALUE=DATE:20260718
DTEND;VALUE=DATE:20260719
DTSTAMP:20260424T052429
CREATED:20260211T001557Z
LAST-MODIFIED:20260212T224931Z
UID:16455-1784332800-1784419199@californiastatehorsemen.org
SUMMARY:Obstacle Challenge Practice
DESCRIPTION:Contact: Lauren West 707-803-9317 sixhorsewest@aol.com
URL:https://californiastatehorsemen.org/event/obstacle-challenge-practice-3/
LOCATION:Six Horse West Ranch\, 3724 Old Railroad Grade Rd\, Fieldbrook\, CA\, United States
CATEGORIES:Obstacle Challenge,Region 13
END:VEVENT
BEGIN:VEVENT
DTSTART;VALUE=DATE:20260718
DTEND;VALUE=DATE:20260720
DTSTAMP:20260424T052429
CREATED:20260209T190529Z
LAST-MODIFIED:20260209T190529Z
UID:16432-1784332800-1784505599@californiastatehorsemen.org
SUMMARY:SCE Benefit Trail Trial
DESCRIPTION:Save the Date More Info Soon!
URL:https://californiastatehorsemen.org/event/sce-benefit-trail-trial/
LOCATION:CA
CATEGORIES:Trail Trials
END:VEVENT
BEGIN:VEVENT
DTSTART;VALUE=DATE:20260725
DTEND;VALUE=DATE:20260726
DTSTAMP:20260424T052429
CREATED:20260209T180648Z
LAST-MODIFIED:20260209T180648Z
UID:16362-1784937600-1785023999@californiastatehorsemen.org
SUMMARY:CSHA Quarterly Meeting
DESCRIPTION:
URL:https://californiastatehorsemen.org/event/csha-quarterly-meeting-2/
LOCATION:Hotel Mission D’Oro\, 13070 CA-33\, Santa Nella\, CA\, United States
END:VEVENT
BEGIN:VEVENT
DTSTART;VALUE=DATE:20260808
DTEND;VALUE=DATE:20260810
DTSTAMP:20260424T052429
CREATED:20260209T182726Z
LAST-MODIFIED:20260212T224813Z
UID:16383-1786147200-1786319999@californiastatehorsemen.org
SUMMARY:Wild West Obstacle Challenge - SANCTIONED
DESCRIPTION:Contact: Lauren West 707-803-9317 sixhorsewest@aol.com Entry Form
URL:https://californiastatehorsemen.org/event/wild-west-obstacle-challenge-sanctioned/
LOCATION:Six Horse West Ranch\, 3724 Old Railroad Grade Rd\, Fieldbrook\, CA\, United States
CATEGORIES:Obstacle Challenge,Region 13
END:VEVENT
BEGIN:VEVENT
DTSTART;VALUE=DATE:20260815
DTEND;VALUE=DATE:20260816
DTSTAMP:20260424T052429
CREATED:20260209T183149Z
LAST-MODIFIED:20260212T225012Z
UID:16392-1786752000-1786838399@californiastatehorsemen.org
SUMMARY:Obstacle Challenge Practice
DESCRIPTION:Contact: Lauren West 707-803-9317 sixhorsewest@aol.com
URL:https://californiastatehorsemen.org/event/obstacle-challenge-practice-2/
LOCATION:Six Horse West Ranch\, 3724 Old Railroad Grade Rd\, Fieldbrook\, CA\, United States
CATEGORIES:Obstacle Challenge,Region 13
END:VEVENT
BEGIN:VEVENT
DTSTART;VALUE=DATE:20260815
DTEND;VALUE=DATE:20260817
DTSTAMP:20260424T052429
CREATED:20260209T190628Z
LAST-MODIFIED:20260209T190628Z
UID:16434-1786752000-1786924799@californiastatehorsemen.org
SUMMARY:Kerrick Corral Trail Trials
DESCRIPTION:Save the Date More Info Soon!
URL:https://californiastatehorsemen.org/event/kerrick-corral-trail-trials/
LOCATION:CA
CATEGORIES:Trail Trials
END:VEVENT
BEGIN:VEVENT
DTSTART;VALUE=DATE:20260822
DTEND;VALUE=DATE:20260824
DTSTAMP:20260424T052429
CREATED:20260209T190741Z
LAST-MODIFIED:20260209T190940Z
UID:16436-1787356800-1787529599@californiastatehorsemen.org
SUMMARY:Trail Trial at Mt. Diablo
DESCRIPTION:Save the Date More Info Soon!
URL:https://californiastatehorsemen.org/event/trail-trial-at-mt-diablo/
LOCATION:CA
CATEGORIES:Trail Trials
END:VEVENT
BEGIN:VEVENT
DTSTART;VALUE=DATE:20260823
DTEND;VALUE=DATE:20260824
DTSTAMP:20260424T052429
CREATED:20260209T183248Z
LAST-MODIFIED:20260211T002257Z
UID:16394-1787443200-1787529599@californiastatehorsemen.org
SUMMARY:Obstacle Challenge Show - Sanctioned Show
DESCRIPTION:Mt Diablo Equestrian Heritage Assoc.\, 1600 Trail Ride Rd\, Clayton\, CA ; Contact: Brian Pepper 925-888-9198\npeppervineyards@gmail.com
URL:https://californiastatehorsemen.org/event/reg-4-obstacle-challenge-at-diamond-bar-sanctioned-show-2/
LOCATION:Diablo Equestrian Heritage Assoc.\, 1600 Trail Ride Rd\, Clayton\, CA\, United States
CATEGORIES:Obstacle Challenge
END:VEVENT
BEGIN:VEVENT
DTSTART;VALUE=DATE:20260905
DTEND;VALUE=DATE:20260907
DTSTAMP:20260424T052429
CREATED:20260209T190841Z
LAST-MODIFIED:20260209T190841Z
UID:16438-1788566400-1788739199@californiastatehorsemen.org
SUMMARY:Trail Trials at Meadowbrook Ranch
DESCRIPTION:Magalia\, CA\nSave the Date More Info Soon! \n 
URL:https://californiastatehorsemen.org/event/trail-trials-at-meadowbrook-ranch/
LOCATION:CA
CATEGORIES:Trail Trials
END:VEVENT
BEGIN:VEVENT
DTSTART;VALUE=DATE:20260912
DTEND;VALUE=DATE:20260914
DTSTAMP:20260424T052429
CREATED:20260212T223316Z
LAST-MODIFIED:20260212T224857Z
UID:16460-1789171200-1789343999@californiastatehorsemen.org
SUMMARY:Wild West Obstacle Challenge - SANCTIONED
DESCRIPTION:Contact: Lauren West 707-803-9317 sixhorsewest@aol.com Entry Form
URL:https://californiastatehorsemen.org/event/wild-west-obstacle-challenge-sanctioned-3/
LOCATION:Six Horse West Ranch\, 3724 Old Railroad Grade Rd\, Fieldbrook\, CA\, United States
CATEGORIES:Obstacle Challenge,Region 13
END:VEVENT
BEGIN:VEVENT
DTSTART;VALUE=DATE:20260912
DTEND;VALUE=DATE:20260914
DTSTAMP:20260424T052429
CREATED:20260212T223611Z
LAST-MODIFIED:20260212T223611Z
UID:16462-1789171200-1789343999@californiastatehorsemen.org
SUMMARY:SANCTIONED SHOW - REG 3
DESCRIPTION:3 shows (2 Saturday; 1 Sunday) \nContact: Cindy Ingman\n(530) 724-4120;
URL:https://californiastatehorsemen.org/event/sanctioned-show-reg-3/
LOCATION:Running I Ranch\, 1700 Alexander Hill Rd\, Dunnigan\, CA\, 95937\, United States
CATEGORIES:Obstacle Challenge,Region 3
END:VEVENT
BEGIN:VEVENT
DTSTART;VALUE=DATE:20260919
DTEND;VALUE=DATE:20260920
DTSTAMP:20260424T052429
CREATED:20260212T224418Z
LAST-MODIFIED:20260212T225055Z
UID:16465-1789776000-1789862399@californiastatehorsemen.org
SUMMARY:Obstacle Challenge Practice
DESCRIPTION:Contact: Lauren West 707-803-9317 sixhorsewest@aol.com
URL:https://californiastatehorsemen.org/event/obstacle-challenge-practice/
LOCATION:Six Horse West Ranch\, 3724 Old Railroad Grade Rd\, Fieldbrook\, CA\, United States
CATEGORIES:Obstacle Challenge,Region 13
END:VEVENT
BEGIN:VEVENT
DTSTART;VALUE=DATE:20260919
DTEND;VALUE=DATE:20260921
DTSTAMP:20260424T052429
CREATED:20260209T191146Z
LAST-MODIFIED:20260209T191146Z
UID:16440-1789776000-1789948799@californiastatehorsemen.org
SUMMARY:State Championship Event at Stone Cellar
DESCRIPTION:You must qualify for SCE and receive an invitation to enter. \nQualification: Be a member of CSHA\, be a member of your Region’s Trail Trials Program\, complete three sanctioned trail trials in the same category and division and on the same horse\, and work a full day at a sanctioned trail trial. \nSCE Vest Order Form Available NOW!\nThis is a two day\, single event. You must compete both days. \nSCE Chairman\nContact:\nJenn Garcia (916) 996-1569\nemail
URL:https://californiastatehorsemen.org/event/state-championship-event-at-stone-cellar/
LOCATION:CA
CATEGORIES:Trail Trials
END:VEVENT
BEGIN:VEVENT
DTSTART;VALUE=DATE:20261017
DTEND;VALUE=DATE:20261019
DTSTAMP:20260424T052429
CREATED:20260212T224612Z
LAST-MODIFIED:20260212T224700Z
UID:16467-1792195200-1792367999@californiastatehorsemen.org
SUMMARY:SOCC (State Obstacle Challenge Championship) Show
DESCRIPTION:Contact: Val Vagg\nvalvagg@yahoo.com (916) 812-4587
URL:https://californiastatehorsemen.org/event/socc-state-obstacle-challenge-championship-show/
LOCATION:Running I Ranch\, 1700 Alexander Hill Rd\, Dunnigan\, CA\, 95937\, United States
CATEGORIES:Obstacle Challenge
END:VEVENT
BEGIN:VEVENT
DTSTART;VALUE=DATE:20261024
DTEND;VALUE=DATE:20261025
DTSTAMP:20260424T052429
CREATED:20260209T191309Z
LAST-MODIFIED:20260209T191309Z
UID:16442-1792800000-1792886399@californiastatehorsemen.org
SUMMARY:19th Annual Trail Trials Clinic
DESCRIPTION:Running I Ranch\, Dunnigan\, CA \nContact:\nDiane Medlock\n530 979-1953\nemail
URL:https://californiastatehorsemen.org/event/19th-annual-trail-trials-clinic/
LOCATION:Running I Ranch\, 1700 Alexander Hill Rd\, Dunnigan\, CA\, 95937\, United States
CATEGORIES:Trail Trials
END:VEVENT
END:VCALENDAR